BEGIN:VCALENDAR
VERSION:2.0
PRODID:-//https://www.papierschiff.de///NONSGML kigkonsult.se iCalcreator 2.10.15//
METHOD:PUBLISH
BEGIN:VEVENT
UID:20260421T232839CEST-2825iw4lbt@https://www.papierschiff.de/
DTSTAMP:20260421T212839Z
DESCRIPTION:Krippenkinder sind geborene Entdecker – wach\, neugierig\, klug
 . Oder wie es so treffend heißt: Kinder sind Akteure ihrer eigenen Entwick
 lung. Sie folgen ihrem angeborenen Forschergeist. Genau hier setzt der Reg
 gio-Ansatz an: Er nimmt die Jüngsten ernst\, sieht ihre 100 Sprachen\, geh
 t mit ihnen in den Dilaog und schafft Räume\, in denen sie ihre Welt selbs
 twirksam entdecken und gestalten können.\nDieses Seminar lädt pädagogische
  Fachkräfte ein\, den Reggio-Ansatz für die Arbeit mit Kindern unter drei 
 Jahren praxisnah für sich zu entdecken. Anhand vieler exemplarischer Beisp
 iele aus dem Krippenalltag erhalten Sie einen Einblick in die Entstehung\,
  Durchführung und Dokumentation von Projekten als pädagogisches Bildungswe
 rkzeug. Wir tauchen ein in Haltung\, Methodik und konkrete Umsetzung – und
  entwickeln gemeinsam Ideen\, wie Projektarbeit in jeder Einrichtung\, una
 bhängig vom Konzept\, schon mit den Kleinsten gut gelingen kann.\nEin insp
 irierender Tag voller Impulse\, Austausch und kreativer Energie!\nInhalte 
 des Seminars\n\n Grundprinzipien des Reggio-Ansatzes – Entstehung\, Haltun
 g\, Bild vom Kind\nWahrnehmende Beobachtung als Handwerkszeug\nProjektarbe
 it mit Kindern unter drei Jahren mit Ideenwerkstatt & Praxiseinblicke\n Rä
 ume\, Material\, Dokumentation\n https://www.papierschiff.de/seminare/deta
 il/3890-kopie-von-kleinkindpaedagogik-reggio-ansatz-bildung-lebendig-forsc
 hend-und-kindorientiert
DTSTART:20270403T093000Z
DTEND:20270403T163000Z
LOCATION:Institut für pädagogische Weiterbildung (Ohmstraße 6\, 97076 Würzb
 urg)
SUMMARY:Kopie von Kleinkindpädagogik: Reggio-Ansatz - Bildung\, lebendig\, 
 forschend und kindorientiert
URL:https://www.papierschiff.de/seminare/detail/3890-kopie-von-kleinkindpae
 dagogik-reggio-ansatz-bildung-lebendig-forschend-und-kindorientiert
END:VEVENT
END:VCALENDAR
