BEGIN:VCALENDAR
VERSION:2.0
PRODID:-//https://www.papierschiff.de///NONSGML kigkonsult.se iCalcreator 2.10.15//
METHOD:PUBLISH
BEGIN:VEVENT
UID:20260421T233554CEST-2113uCvHjm@https://www.papierschiff.de/
DTSTAMP:20260421T213554Z
DESCRIPTION:Das HeVeKi Konzept bietet Kitas einen professionellen\, ressour
 cenorientierten Ansatz\, um schwierigen und komplexen Herausforderungen mi
 t Klarheit\, Handlung und Handlungssicherheit zu begegnen.\nHeVeKi – stell
 t nicht das Verhalten selbst in den Mittelpunkt\, sondern den Menschen dah
 inter. Verhalten wird als Ausdruck von Bedürfnissen\, Erfahrungen und inne
 ren Prozessen verstanden – nicht als Störung\, sondern als Kommunikation. 
 \nDas zeichnet HeVeKi aus:\n\nWertschätzender\, beziehungsorientierter Bli
 ck auf das Kind\nStärkung vorhandener Ressourcen statt Defizitorientierung
 \nPraxisnahe Strategien für den pädagogischen Alltag\nReflexion der eigene
 n Haltung und professionellen Rolle\nEntlastung und Stärkung der pädagogis
 chen Fachkraft\n\nDas erwartet Sie:\n\nBeobachtung und Dokumentation als K
 ernprozess professionellen Handelns\nKritische Auseinandersetzung mit den 
 Begrifflichkeiten und Begriffsklärung\nBiografische Selbstreflexion: Ausei
 nandersetzung mit eigenen Werten und Normen \n  und dem eigenen Bild vom K
 ind\nEinblicke in das „Bio-Psychische-Soziale Modell“ als Erklärungsansatz
  für   \n  „Verhalten“\nEinblicke in das Modell der seelischen Grundbedürf
 nisse\n\nKonkrete Schritte/Strategien für die Akutsituation\nReflexion und
  Entwicklung von Handlungsstrategien im Sinne von Prävention\nGestaltung d
 er Fachkraft-Kind-Beziehung https://www.papierschiff.de/seminare/detail/38
 84-heveki-konzept-fuer-herausforderndes-erlebtes-verhalten
DTSTART:20270423T093000Z
DTEND:20270423T163000Z
LOCATION:Institut für pädagogische Weiterbildung (Ohmstraße 6\, 97076 Würzb
 urg)
SUMMARY:HeVeKi–Konzept für herausforderndes erlebtes Verhalten
URL:https://www.papierschiff.de/seminare/detail/3884-heveki-konzept-fuer-he
 rausforderndes-erlebtes-verhalten
END:VEVENT
END:VCALENDAR
