BEGIN:VCALENDAR
VERSION:2.0
PRODID:-//https://www.papierschiff.de///NONSGML kigkonsult.se iCalcreator 2.10.15//
METHOD:PUBLISH
BEGIN:VEVENT
UID:20260421T231955CEST-4920lFJloD@https://www.papierschiff.de/
DTSTAMP:20260421T211955Z
DESCRIPTION:In unserer Einrichtung der „Mini-Kita“ im Familienzentrum erleb
 en wir immer häufiger Kinder\, die schon im Krippenalter „nicht ihrem alte
 rsgemäßen Entwicklungsstand“ entsprechen. Sie fallen durch Verzögerungen i
 n ihrer Entwicklung auf\, zeigen besondere Verhaltensweisen\, oder kommen 
 mit einer Behinderung in die Krippe.\nWeil die Kinder in ihrer Entwicklung
  noch ganz am Anfang stehen\, ist dies oft nur eine Verdachtsbeobachtung u
 nd es gibt so gut wie keine Frühförderung\, oder Eingliederungshilfe für d
 iese Altersspanne. Was also tun?\nSeminarinhalt:\n\nVerschiedene Auffällig
 keiten und Behinderungen kennenlernen\nWas braucht es\, damit eine gute In
 klusion und Integration gelingen kann?\nMethoden kennenlernen\, die im All
 tag helfen und unterstützen\nWelche Anlaufstellen gibt es\, die uns als Ei
 nrichtung\, die Kinder und die Eltern unterstützen\nAnhand von Fallbeispie
 len entwickeln wir Handlungsstrategien für den Krippenalltag\n https://www
 .papierschiff.de/seminare/detail/3875-kleinkindpaedagogik-inklusion-und-in
 tegration-in-der-kinderkrippe-hassfurt
DTSTART:20270306T093000Z
DTEND:20270306T163000Z
LOCATION:Mini-Kita im Familienzentrum (Am Herrenhof 1\, 97437\, Haßfurt\, B
 ayern)
SUMMARY:Kleinkindpädagogik: Inklusion und Integration in der Kinderkrippe (
 Hassfurt)
URL:https://www.papierschiff.de/seminare/detail/3875-kleinkindpaedagogik-in
 klusion-und-integration-in-der-kinderkrippe-hassfurt
END:VEVENT
END:VCALENDAR
