BEGIN:VCALENDAR
VERSION:2.0
PRODID:-//https://www.papierschiff.de///NONSGML kigkonsult.se iCalcreator 2.10.15//
METHOD:PUBLISH
BEGIN:VEVENT
UID:20260421T232355CEST-7293eItTRd@https://www.papierschiff.de/
DTSTAMP:20260421T212355Z
DESCRIPTION:\n„In den Wäldern sind Dinge\, über die nachzudenken man jahrel
 ang im Moos liegen könnte.“ - (Franz Kafka)\nIm Wald können Sie erleben\, 
 wie sich die Montessori-Pädagogik mit der Wald- /Naturpädagogik erfolgreic
 h verbinden lässt. Auch wenn Sie selbst nicht in einem Waldkindergarten ar
 beiten\, werden Sie viele praktische Anregungen für Projekte\, Waldtage od
 er Begegnungen mit der Natur mitnehmen. Der Wald bietet für Kinder einen u
 nendlichen Erfahrungsschatz und Lernmöglichkeiten. Hier dürfen sie spielen
 \, lernen\, sich bewegen\, beobachten und experimentieren.Sie haben die Mö
 glichkeit\, die Bildungsbereiche von Maria Montessori mit Materialien im U
 mfeld einer Waldgruppe selbst auszuprobieren. Außerdem erstellen Sie ein M
 ontessorimaterial\, dass Sie mit in Ihre Einrichtung nehmen können.Inhalte
  des Seminars:• Wie lässt sich die Montessori-Pädagogik in einem Waldkinde
 rgarten umsetzen?• Wie gestalte ich einen Jahreskreislauf in einer Montess
 ori-Waldgruppe?• Wie setzt die Arbeit in einer Waldgruppe die Vorgaben und
  Ziele des Bildungs- und Erziehungsplans um?• Wie kann ich aus Naturmateri
 alien selbst Montessori-Material herstellen?\n\nBitte mitbringen: Das Semi
 nar findet größtenteils im Freien und bei jedem Wetter statt. Bitte festes
  Schuhwerk und dem Wetter angepasste Kleidung anziehen. (Mobilnummer mit a
 ngeben)\n https://www.papierschiff.de/seminare/detail/3868-montessoripaeda
 gogik-6-montessori-trifft-wald-und-naturpaedagogik
DTSTART:20270605T093000Z
DTEND:20270605T163000Z
LOCATION:Institut für pädagogische Weiterbildung (Ohmstraße 6\, 97076 Würzb
 urg)
SUMMARY:Montessoripädagogik 6: Montessori trifft Wald- und Naturpädagogik
URL:https://www.papierschiff.de/seminare/detail/3868-montessoripaedagogik-6
 -montessori-trifft-wald-und-naturpaedagogik
END:VEVENT
END:VCALENDAR
