BEGIN:VCALENDAR
VERSION:2.0
PRODID:-//https://www.papierschiff.de///NONSGML kigkonsult.se iCalcreator 2.10.15//
METHOD:PUBLISH
BEGIN:VEVENT
UID:20260421T231933CEST-4446RBciWg@https://www.papierschiff.de/
DTSTAMP:20260421T211933Z
DESCRIPTION:\nAggressives Verhalten bei Kindern bringt uns im pädagogischen
  Alltag oftmals an die eigenen fachlichen und persönlichen Grenzen: „An de
 n Tagen\, an denen A. nicht da ist\, fällt die Arbeit leichter.“ oder „L. 
 mischt die ganze Gruppe auf!“ sind typische Sätze in solchen Situationen.U
 m diese Kinder begleiten zu können\, ist es wichtig\, die Funktionen und U
 rsachen von aggressivem Verhalten zu verstehen\, um dann dem jeweiligen Ki
 nd entsprechende und hilfreiche Antworten anbieten zu können.An diesem Sem
 inartag werden Sie ergründen und entdecken• was Kinder dazu bewegt immer w
 ieder auf aggressives Verhalten zurückzugreifen\,• wie Sie aggressive Hand
 lungen differenziert wahrnehmen\, verstehen und beantworten können\,• wie 
 Sie selbst auf Aggressivität reagieren und wie im Rahmen pädagogischer Arb
 eit hilfreiche „Lösungsideen“ entwickelt werden können.\n https://www.papi
 erschiff.de/seminare/detail/3865-aggressionen-und-immer-wieder-schaeumt-di
 e-wut
DTSTART:20270617T093000Z
DTEND:20270617T163000Z
LOCATION:Institut für pädagogische Weiterbildung (Ohmstraße 6\, 97076 Würzb
 urg)
SUMMARY:Aggressionen ...  ... und immer wieder schäumt die Wut!
URL:https://www.papierschiff.de/seminare/detail/3865-aggressionen-und-immer
 -wieder-schaeumt-die-wut
END:VEVENT
END:VCALENDAR
