BEGIN:VCALENDAR
VERSION:2.0
PRODID:-//https://www.papierschiff.de///NONSGML kigkonsult.se iCalcreator 2.10.15//
METHOD:PUBLISH
BEGIN:VEVENT
UID:20260421T232110CEST-0479g1cE63@https://www.papierschiff.de/
DTSTAMP:20260421T212110Z
DESCRIPTION:\nDie Raumgestaltung als zusätzlicher Erzieher heißt Bedürfniss
 e\, Interessen und Themen der Kinder in den Mittelpunkt zu stellen. Sie wo
 llen sich geborgen fühlen\, anderen begegnen\, manchmal alleine sein\, spi
 elend lernen\, gemeinsam vieles entdecken\, sich bewegen\, Ruhe finden\, m
 it allen Sinnen ihre Umgebung erkunden und mitgestalten.Dafür brauchen sie
  verlässliche Räume - überschaubar mit klarer Struktur und vielfältigste M
 aterialien\, die ansprechend\, altersgerecht\, ästhetisch und immer wieder
  interessant sind\, um neue Lernschritte vorzubereiten.Inhalte des Seminar
 s:• Möglichkeiten und Gestaltung von „Wohlfühlräumen“ „Visitenkarte“ Einga
 ngsbereich\, Flur und Garderobe• Lernwerkstätten\, „Leseinseln“\, Biblioth
 ek• Gruppenräume\, Orte für Rückzug• Treffpunkte für Kinder\, pädagogische
  Fachkräfte oder Eltern• Essen\, Trinken\, Schlafen und Ruhen\, Wickel- un
 d Toilettenräume• Bewegung drinnen und draußen\n https://www.papierschiff.
 de/seminare/detail/3863-lebensraum-kita-paedagogische-raeume-gestalten
DTSTART:20270428T093000Z
DTEND:20270428T163000Z
LOCATION:Institut für pädagogische Weiterbildung (Ohmstraße 6\, 97076 Würzb
 urg)
SUMMARY:LebensRAUM Kita\, pädagogische Räume gestalten
URL:https://www.papierschiff.de/seminare/detail/3863-lebensraum-kita-paedag
 ogische-raeume-gestalten
END:VEVENT
END:VCALENDAR
