BEGIN:VCALENDAR
VERSION:2.0
PRODID:-//https://www.papierschiff.de///NONSGML kigkonsult.se iCalcreator 2.10.15//
METHOD:PUBLISH
BEGIN:VEVENT
UID:20260421T232255CEST-9937iPX7hb@https://www.papierschiff.de/
DTSTAMP:20260421T212255Z
DESCRIPTION:\nIn diesem Seminar lernen Sie vor Ort die MontessoriKinderkrip
 pe St. Sebastian in Kolitzheim kennen. Der Tag bietet Einblicke in den All
 tag und gibt wertvolle Anregungen und Impulse für die eigene Praxis. Die B
 edürfnisse der Kleinsten unterscheiden sich deutlich von Kindergartenkinde
 rn\, daher beschäftigen wir uns intensiv mit der Frage: Welche Bedürfnisse
  haben Krippenkinder?Ein weiterer Schwerpunkt des Kurses sind das Kennenle
 rnen von Kleinkindmaterialien nach dem Montessoriprinzip. Besonders das Si
 nnesmaterial\, Übungen des praktischen Lebens und Materialien für den Krea
 tivbereich werden vorgestellt und können ausprobiert werden. Inhalte des S
 eminars:• Bedürfnisse der Krippenkinder• Reflexion: Wird die Praxis den Ki
 ndern in diesem Alter gerecht?• Beantwortung aller Fragen zum Thema Einzel
 integration/Inklusion• Krippenführung und Tagesablauf• Materialien aus der
  Montessoripädagogik• Herstellung von Kleinkindmaterial aus Alltagsgegenst
 änden• Praxisnahe Anregungen\, die sich direkt umsetzen lassen.\nBitte mit
 bringen: Hausschuhe\n https://www.papierschiff.de/seminare/detail/3861-kle
 inkindpaedagogik-alltag-in-der-montessori-kinderkrippe-st-sebastian-kolitz
 heim
DTSTART:20270424T093000Z
DTEND:20270424T163000Z
LOCATION:Montessori Kinderhaus St. Sebastian (Nähe Würzburg) (Alleestr. 4\,
  97509 Kolitzheim)
SUMMARY:Kleinkindpädagogik: Alltag in der Montessori Kinderkrippe St. Sebas
 tian (Kolitzheim)
URL:https://www.papierschiff.de/seminare/detail/3861-kleinkindpaedagogik-al
 ltag-in-der-montessori-kinderkrippe-st-sebastian-kolitzheim
END:VEVENT
END:VCALENDAR
