BEGIN:VCALENDAR
VERSION:2.0
PRODID:-//https://www.papierschiff.de///NONSGML kigkonsult.se iCalcreator 2.10.15//
METHOD:PUBLISH
BEGIN:VEVENT
UID:20260421T232248CEST-8881mrvp8j@https://www.papierschiff.de/
DTSTAMP:20260421T212248Z
DESCRIPTION:\n Unsere schönsten Kindheitserlebnisse beginnen oft mit Erinne
 rungen aus der Natur\, wie wir am Bach gespielt haben\, Lager gebaut oder 
 Sandkuchen aus Matsch gebacken haben…. Die Natur bietet so viele Lernfelde
 r\, die keine großen Vorbereitungen brauchen\, um den Kita-Alltag mit all 
 seinen Facetten auch zweitweise draußen zu (er-)leben. Wir möchten Ihnen m
 it einfachen Methoden und simplen Tricks zeigen\, dass jede Kita (auch ohn
 e großen Materialaufwand) pädagogisch im Freien tätig werden kann. Wichtig
  dabei sind die Rolle und Haltung der Erzieher*innen.\nAußerdem möchten wi
 r folgende Punkte mit Ihnen gemeinsam angehen: • Wiesentage\,- Wochen – wi
 e können wir es in unseren Alltag integrieren?• Einflüsse aus der Erlebnis
 pädagogik• Zeit für Fragen und Austausch• Geht das auch schon in der Kripp
 e?• Erste-Hilfe-Outdoor• Ausstattung für draußen – was hat sich bewährt\nW
 ir freuen uns auf einen Tag drinnen & draußen mit viel Austausch\, Methode
 nvielfalt und Impulsen.\nBitte wetterfeste\, angepasste Kleidung mitbringe
 n und Hausschuhe.\n https://www.papierschiff.de/seminare/detail/3860-natur
 paedagogik-und-wiesenwochen-in-der-kita-kitzingen
DTSTART:20270424T093000Z
DTEND:20270424T163000Z
LOCATION:Kindergarten St. Vinzenz (Sickershäuser Str. 1\, 97318 Kitzingen\,
  Deutschland)
SUMMARY:Naturpädagogik und Wiesenwochen in der Kita (Kitzingen)
URL:https://www.papierschiff.de/seminare/detail/3860-naturpaedagogik-und-wi
 esenwochen-in-der-kita-kitzingen
END:VEVENT
END:VCALENDAR
