BEGIN:VCALENDAR
VERSION:2.0
PRODID:-//https://www.papierschiff.de///NONSGML kigkonsult.se iCalcreator 2.10.15//
METHOD:PUBLISH
BEGIN:VEVENT
UID:20260421T232513CEST-0943C0lUvD@https://www.papierschiff.de/
DTSTAMP:20260421T212513Z
DESCRIPTION:\nDie 'Kosmische Erziehung' dient zum Verständnis des gesamten 
 Lebenswerkes von Maria Montessori. Die Einsicht in die Wechselbeziehungen\
 , alles hängt mit allem zusammen ist für Montessori das fundamentale Bildu
 ngsprinzip\, welches die Kinder auf ein verantwortungsvolles Handeln in de
 r Welt vorbereitet.Sie entwickelte zahlreiche Ideen\, Materialien und Hand
 lungskonzepte um Kindern diesen Gesamtzusammenhang von Natur\, Umwelt\, Ku
 ltur und Gesellschaft zu vermitteln. Dadurch können Kinder mit natürlicher
  Neugierde und Freude am Forschen das nahe Umfeld und das vermeintlich fer
 ne Universum erkunden.Sie erhalten an diesem Samstag einen Einblick in die
 se kosmische Materialvielfalt\, mit Praxisbeispielen und Praxisbezug\, Anr
 egungen und Anwendungsmöglichkeiten für Ihren Kitaalltag. Die verschiedene
 n Materialien geben Impulse\, wie Sie den naturwissenschaftlich-technische
 n Bereich (BEP) pädagogisch wertvoll abdecken und gestalten können.\n http
 s://www.papierschiff.de/seminare/detail/3849-montessoripaedagogik-7-kosmis
 che-erziehung-alles-haengt-mit-allem-zusammen
DTSTART:20270410T093000Z
DTEND:20270410T163000Z
LOCATION:Institut für pädagogische Weiterbildung (Ohmstraße 6\, 97076 Würzb
 urg)
SUMMARY:Montessoripädagogik 7: Kosmische Erziehung - alles hängt mit allem 
 zusammen
URL:https://www.papierschiff.de/seminare/detail/3849-montessoripaedagogik-7
 -kosmische-erziehung-alles-haengt-mit-allem-zusammen
END:VEVENT
END:VCALENDAR
