BEGIN:VCALENDAR
VERSION:2.0
PRODID:-//https://www.papierschiff.de///NONSGML kigkonsult.se iCalcreator 2.10.15//
METHOD:PUBLISH
BEGIN:VEVENT
UID:20260420T143408CEST-2685EOORvX@https://www.papierschiff.de/
DTSTAMP:20260420T123408Z
DESCRIPTION:\nIm Alter zwischen 1 ½ und 2 Jahren werden die Kinder oft von 
 ihren eigenen Gefühlen überwältigt. Ideen wollen in die Wirklichkeit umges
 etzt werden – aber das Können fehlt noch. In diesem Seminar geht es um die
  Frage\, wie man Kleinkinder in dieser ersten wichtigen Autonomiephase unt
 erstützen kann.Inhalte des Seminars:- Wie viele Regeln und Konsequenzen br
 auchen sie? - Wie kann man sie selbst und andere vor den oft heftigen Gefü
 hlen und Reaktionen schützen?- Kann man die Trotzphase abkürzen\, beziehun
 gsweise entschärfen?- Wie kann man ihnen helfen\, einen guten Umgang mit W
 ut und Frust zu finden?- Welche Rolle spielen bindungssicheres- oder bindu
 ngsunsicheres Verhalten?- Wie spreche ich mit Kindern\, damit sie zuhören 
 und sich beruhigen?- Was brauchen Kinder gerade in dieser Zeit von uns in 
 der Kita?\n\nHinweis: Unsere Kleinkindpädagogik/Zusatzqualifikation besteh
 t aus Bausteinen\, die Sie einzeln buchen können und in sich abgeschlossen
 e Themenbereiche behandeln. Für die Teilnahme an allen 8 Bausteinen (oder 
 mehr) erhalten Sie eine gesonderte Bestätigung in Form eines Zertifikates.
  Einen Überblick finden Sie unter Zusatzqualifikationen. https://www.papie
 rschiff.de/seminare/detail/3848-kleinkindpaedagogik-trotz---wenn-kinder-ge
 fuehle-zeigen
DTSTART:20270129T093000Z
DTEND:20270129T163000Z
LOCATION:Online Seminar (\, 0 )
SUMMARY:Kleinkindpädagogik: Trotz – Wenn Kinder Gefühle zeigen…
URL:https://www.papierschiff.de/seminare/detail/3848-kleinkindpaedagogik-tr
 otz---wenn-kinder-gefuehle-zeigen
END:VEVENT
END:VCALENDAR
