BEGIN:VCALENDAR
VERSION:2.0
PRODID:-//https://www.papierschiff.de///NONSGML kigkonsult.se iCalcreator 2.10.15//
METHOD:PUBLISH
BEGIN:VEVENT
UID:20260421T232117CEST-4946BshGSa@https://www.papierschiff.de/
DTSTAMP:20260421T212117Z
DESCRIPTION:\nKinderyoga macht Spaß und fördert die kindliche Entwicklung. 
 Erziehende sind meist keine ausgebildeten Yogalehrenden und so fehlt es of
 t an Sicherheit und Erfahrung\, wie Yoga in der Kita Anwendung finden kann
 . Mit den Stundenbildern wird das ganz einfach und Sie können mit Freude u
 nd Klarheit Yoga zu unterschiedlichen Gelegenheiten anbieten. In diesem Se
 minar beantworten wir folgende Fragen: * Welche Übungen sind für welche Th
 emenfelder geeignet? * Wie werden die Übungen sinnvoll aneinander gefügt?*
  Was\, wenn nur Zeit für eine kurze Yogaeinheit bleibt\, oder geht Yoga au
 ch draußen? * Was geht und was geht nicht mit Kindern?Durch gezeichnete St
 undenbilder\, die nach dem Seminar mitgenommen werden können\, werden Yoga
 sequenzen einfach in Skizzen erklärt. Ähnlich einer bebildertenBetriebsanl
 eitung kann mit einem Blick auf das Stundenbild problemlos angeleitet werd
 en. Wir üben selbst die vorbereiteten Stundenbilder zu zeichnen und können
  so aufkommende Fragen gleich beantworten. Wir zeichnen selbst eine kurze 
 Yogasequenz. Das macht nicht nur Spaß sondern kann auch als kreatives Zeic
 henspiel in der Einrichtung angewendet werden.\nBitte mitbringen: Eine Por
 tion Vorfreude - Yogamatte\, falls vorhanden - Fineliner in drei Farben un
 d ein linierter Block - warme Socken oder Hausschuhe\n \n https://www.papi
 erschiff.de/seminare/detail/3837-kinderyoga-mit-skizzenbildern-sicher-anle
 iten-einfach-und-auf-einen-blick
DTSTART:20270313T093000Z
DTEND:20270313T163000Z
LOCATION:Sameschyoga\, Yogastudio (Petrinistr. 23\, 97080 Würzburg (Grombüh
 l))
SUMMARY:Kinderyoga mit Skizzenbildern sicher anleiten\, einfach und auf ein
 en Blick 
URL:https://www.papierschiff.de/seminare/detail/3837-kinderyoga-mit-skizzen
 bildern-sicher-anleiten-einfach-und-auf-einen-blick
END:VEVENT
END:VCALENDAR
