BEGIN:VCALENDAR
VERSION:2.0
PRODID:-//https://www.papierschiff.de///NONSGML kigkonsult.se iCalcreator 2.10.15//
METHOD:PUBLISH
BEGIN:VEVENT
UID:20260420T142806CEST-40627EgNa7@https://www.papierschiff.de/
DTSTAMP:20260420T122806Z
DESCRIPTION:\nKleinkindpädagogik: Freie Spielentwicklung und Dialogfähigkei
 t\n (Nach den pädagogischen Grundsätzen von Emmi Pikler)\nIn der kindliche
 n Entwicklung erlebt das Kind verschiedene Entwicklungsstufen des freien S
 piels. Damit verbunden sind die eigentlichen Lebens-\, Ausdrucks- und Lern
 formen des Kindes. Es hilft ihnen\, die Welt zu begreifen. Diese Erfahrung
 en bilden die Grundlage für eine gesunde\, ganzheitliche Entwicklung und s
 ind die Voraussetzung für alle kognitiven und weiteren Lernprozesse.Im fre
 ien Spiel kann das Kind aktiv und nach seinen Vorstellungen tätig sein. Da
 bei steht die eigene Aktivität im Vordergrund und nicht die dabei entstehe
 nden Ergebnisse.Wir Erwachsene haben die Aufgabe\, Bedingungen zu schaffen
 \, in denen Kindern ein „intensives\, selbstbestimmtes Spielen“ ermöglicht
  wird. Wie uns dies gelingen kann\, werden wir anhand von Theorie\, prakti
 schem Austausch und verschiedenem Filmmaterial erarbeiten.Inhalte des Semi
 nars:• Im Dialog mit Säugling und Kleinkind • Vorbereitete Umgebung• Der E
 rwachsene in der Rolle des Begleitenden• Praktische Beispiele für die Umse
 tzung des freien Spiels\n https://www.papierschiff.de/seminare/detail/3826
 -kleinkindpaedagogik-freie-spielentwicklung-und-dialogfaehigkeit
DTSTART:20270220T093000Z
DTEND:20270220T163000Z
LOCATION:Institut für pädagogische Weiterbildung (Ohmstraße 6\, 97076 Würzb
 urg)
SUMMARY:Kleinkindpädagogik: Freie Spielentwicklung und Dialogfähigkeit
URL:https://www.papierschiff.de/seminare/detail/3826-kleinkindpaedagogik-fr
 eie-spielentwicklung-und-dialogfaehigkeit
END:VEVENT
END:VCALENDAR
