BEGIN:VCALENDAR
VERSION:2.0
PRODID:-//https://www.papierschiff.de///NONSGML kigkonsult.se iCalcreator 2.10.15//
METHOD:PUBLISH
BEGIN:VEVENT
UID:20260422T102906CEST-3771fHUuah@https://www.papierschiff.de/
DTSTAMP:20260422T082906Z
DESCRIPTION:\nDie Sinnesreize sind die Grundlage zur Entwicklung der Intell
 igenz. Kinder erforschen mit allen Sinnesorganen die Umgebung. Diese viele
 n ungeordneten Reize können mit verschiedenen Montessori-Materialien zielg
 erichtet gefördert werden. Durch die Isolierung der Materialeigenschaften 
 kann das Kind sich so seine Umgebung auf kindgerechte Art und Weise erschl
 ießen. Damit das Kind nicht überfordert ist\, werden seine Sinne Schritt f
 ür Schritt geschult.\nDazu ordnen wir die Materialien in acht verschiedene
  Bereiche:Gesichtssinn\, Gehörsinn\, Geschmackssinn\, Geruchssinn\, Tastsi
 nn\, Wärmesinn\, Gewichtssinn\, stereognostischer SinnIm Seminar können au
 ch Sie mit allen Sinnen diese Methoden praktisch erleben. Holen Sie sich n
 eue Impulse für Ihre tägliche Arbeit im Kindergarten und in der Krippe. \n
 Hintergrund und Basis bietet hier die Montessori-Pädagogik und das Materia
 l\, an dem Sie selbst praktische Übungen machen und Erfahrungen sammeln kö
 nnen. Wir zeigen viele verschiedene selbst hergestellte Materialien\, die 
 sie sich als Anregung fotografieren und dann für Ihre Einrichtung selbst e
 rstellen können.\nHinweis: Tipp: Seminar einzeln buchbar. Wenn Sie alle Ba
 usteine besucht haben\, erhalten Sie ein Zertifikat (Überblick unter Zusat
 zqualifikationen).\n\n https://www.papierschiff.de/seminare/detail/3819-mo
 ntessoripaedagogik-3-sinneserziehung-im-kindergarten
DTSTART:20270130T093000Z
DTEND:20270130T163000Z
LOCATION:Institut für pädagogische Weiterbildung (Ohmstraße 6\, 97076 Würzb
 urg)
SUMMARY:Montessoripädagogik 3: Sinneserziehung im Kindergarten 
URL:https://www.papierschiff.de/seminare/detail/3819-montessoripaedagogik-3
 -sinneserziehung-im-kindergarten
END:VEVENT
END:VCALENDAR
