BEGIN:VCALENDAR
VERSION:2.0
PRODID:-//https://www.papierschiff.de///NONSGML kigkonsult.se iCalcreator 2.10.15//
METHOD:PUBLISH
BEGIN:VEVENT
UID:20260420T142600CEST-3121cgbVRj@https://www.papierschiff.de/
DTSTAMP:20260420T122600Z
DESCRIPTION:Mobbing – fängt an\, wo der Spaß aufhört!\n„das ist unfair“\, „
 gemein“\, „lass mich“\, „der hat mir wehgetan“ …. \nSätze\, die wir in Fre
 ispielsituationen ständig erleben bzw. hören. \nGezielte Ausgrenzung\, Bel
 eidigungen\, Provokationen\, Wegnahme von Dingen\, ungewolltes Anfassen\, 
 Androhung von Gewalt und immer die Frage\, wo und wann greife ich ein\, od
 er können es die Kinder selbst unter sich regeln?\nNicht jeder Streit ist 
 gleich Mobbing\, aber ab wann sprechen wir von Mobbing? Wenn einzelne Kind
 er wirklich leiden und es um ein dauerhaftes Machtungleichgewicht geht\, b
 ei dem ein Kind wiederholt und absichtlich schikaniert wird. Die Folgen kö
 nnen Wesensveränderungen\, Abwehrhaltung\, Schlafstörungen oder sogar körp
 erliche Spuren sein. Wenn Sie oder die Eltern einen Verdacht haben\, ist s
 chnelles\, aber besonnenes Handeln gefragt. \nDamit Mobbing erst gar nicht
  entsteht\, können Präventionsprogramme vorbeugen. Schon im Kindergarten l
 ernen Kinder Empathie\, Zivilcourage um für sich und andere einstehen. In 
 diesem Seminar werden praxisnahe Übungen und Beispiele vorgestellt\, wie K
 onfliktlösungsstrategien und Lebenskompetenzen im Kindergarten entwickelt 
 werden können.\nBei uns wird nicht gemobbt!!!! Ein respektvoller Umgang is
 t keine Option\, sondern Grundlage für alle! https://www.papierschiff.de/s
 eminare/detail/3817-mobbing-bei-uns-wird-nicht-gemoppt-kindergarten-hort
DTSTART:20270128T093000Z
DTEND:20270128T163000Z
LOCATION:Institut für pädagogische Weiterbildung (Ohmstraße 6\, 97076 Würzb
 urg)
SUMMARY:Mobbing - bei uns wird nicht gemoppt (Kindergarten/Hort)
URL:https://www.papierschiff.de/seminare/detail/3817-mobbing-bei-uns-wird-n
 icht-gemoppt-kindergarten-hort
END:VEVENT
END:VCALENDAR
