BEGIN:VCALENDAR
VERSION:2.0
PRODID:-//https://www.papierschiff.de///NONSGML kigkonsult.se iCalcreator 2.10.15//
METHOD:PUBLISH
BEGIN:VEVENT
UID:20260420T143512CEST-1635ACEjdK@https://www.papierschiff.de/
DTSTAMP:20260420T123512Z
DESCRIPTION:\n 'Sieh mal\, was ich kann!' Entdecken und begleiten Sie das K
 ind mit einem Portfolio. Hier ist Ihr pädagogischer Forschungsdrang geford
 ert\, mit Empathie und Neugier für alles\, was das Kind bewegt und im Allt
 ag macht.\nEin 'Schatz'\, eine 'Erinnerungshilfe' in erster Linie fürs Kin
 d\, aber auch für die Eltern und Grundlage für Ihre gesamte pädagogische A
 rbeit. Portfolio ist kein Fotoalbum\, sondern zeigt individuelle Entwicklu
 ng\,  Entwicklungsschritte und Veränderungen.\nBildungs- und Lerngeschicht
 en im Portfolio erinnern an individuelle Lernprozesse und Lernerfolge. Kin
 der erleben dadurch Selbstwirksamkeit und Motivation. ' Du siehst\, was ic
 h kann!'Inhalte des Seminars:• Wahrnehmung/ freie Beobachtung• Portfolio –
  Hintergrund\, Struktur und Ideen• Analyse von freien Beobachtungen nach L
 erndispositionen\, Lerngeschichten schreiben ganz praktisch• Tipps zur kon
 kreten Umsetzung in der Praxis• Portfolio mit digitaler Unterstützung im A
 lltag umsetzen (Software dokulino)\n https://www.papierschiff.de/seminare/
 detail/3815-lerngeschichten-fuer-s-portfolio-im-kindergarten-schatzsuche-s
 tatt-fehlersuche
DTSTART:20270120T093000Z
DTEND:20270120T163000Z
LOCATION:Institut für pädagogische Weiterbildung (Ohmstraße 6\, 97076 Würzb
 urg)
SUMMARY:Lerngeschichten für`s Portfolio im Kindergarten - Schatzsuche statt
  Fehlersuche
URL:https://www.papierschiff.de/seminare/detail/3815-lerngeschichten-fuer-s
 -portfolio-im-kindergarten-schatzsuche-statt-fehlersuche
END:VEVENT
END:VCALENDAR
