BEGIN:VCALENDAR
VERSION:2.0
PRODID:-//https://www.papierschiff.de///NONSGML kigkonsult.se iCalcreator 2.10.15//
METHOD:PUBLISH
BEGIN:VEVENT
UID:20260420T142739CEST-7234DEe2VU@https://www.papierschiff.de/
DTSTAMP:20260420T122739Z
DESCRIPTION:\n 'Sieh mal\, was ich kann!' Entdecken und begleiten Sie das K
 ind mit einem Portfolio. Hier ist Ihr pädagogischer Forschungsdrang geford
 ert\, mit Empathie und Neugier für alles\, was das Kind bewegt und im Allt
 ag macht. Ein 'Schatz'\, eine 'Erinnerungshilfe' in erster Linie fürs Kind
 \, aber auch für die Eltern und Grundlage für Ihre gesamte pädagogische Ar
 beit. Ein Portfolio ist besonders in der Krippe ein geeignetes Instrument\
 , um die individuelle Entwicklung eines jeden Kindes zu begleiten und tran
 sparent zu dokumentieren.Inhalte des Seminars:• Wahrnehmung / Beobachtung•
  Portfolio – Hintergrund\, Struktur und Ideen• Analyse von freien Beobacht
 ungen nach Lerndispositionen. Lerngeschichten schreiben ganz praktisch.• T
 ipps zur konkreten Umsetzung in der Praxis\, auch mit digitaler Unterstütz
 ung (dokulino)\nExkurs: Entwicklungsüberprüfung: Entwicklungsbeobachtung u
 nd -dokumentation (Petermann / Petermann) zum frühzeitigen Erkennen von En
 twicklungsverzögerungen durch systematische Beobachtungsbögen. Ein Entwick
 lungssreening\, das durch gezielte Beobachtung alltagstauglich mit geringe
 m Zeitaufwand in der Krippe eingesetzt werden kann.\n https://www.papiersc
 hiff.de/seminare/detail/3814-kleinkindpaedagogik-entwicklungsdokumentation
 -im-portfolio-lerngeschichten-schreiben-exkurs-entwicklungsueberpruefung
DTSTART:20270126T093000Z
DTEND:20270126T163000Z
LOCATION:Institut für pädagogische Weiterbildung (Ohmstraße 6\, 97076 Würzb
 urg)
SUMMARY:Kleinkindpädagogik: Entwicklungsdokumentation im Portfolio (Lernges
 chichten schreiben)  &  Exkurs: Entwicklungsüberprüfung
URL:https://www.papierschiff.de/seminare/detail/3814-kleinkindpaedagogik-en
 twicklungsdokumentation-im-portfolio-lerngeschichten-schreiben-exkurs-entw
 icklungsueberpruefung
END:VEVENT
END:VCALENDAR
