BEGIN:VCALENDAR
VERSION:2.0
PRODID:-//https://www.papierschiff.de///NONSGML kigkonsult.se iCalcreator 2.10.15//
METHOD:PUBLISH
BEGIN:VEVENT
UID:20260420T143208CEST-9945Rin9lz@https://www.papierschiff.de/
DTSTAMP:20260420T123208Z
DESCRIPTION:\nEs gibt keine richtige oder falsche Erziehung. Es gibt keine 
 idealen Eltern und keine idealen ErzieherInnen. Durch Langzeituntersuchung
 en weiß man inzwischen aber einiges darüber\, was Kinder brauchen\, um sic
 h zu seelisch gesunden Persönlichkeiten zu entwickeln. Drei Entwicklungsbe
 dingungen sind besonders wichtig:Kinder brauchen Liebe und das Gefühl:“ Ic
 h werde gemocht“. Kinder brauchen Möglichkeiten und Freiräume und Kinder b
 enötigen Beständigkeit und Orientierung.Grenzen zu setzen ist ein Prozess\
 , der sich ständig verändert. Ein Kleinkind braucht andere Grenzen als ein
  Schulkind\, andere als Heranwachsender.Wir wollen uns im Seminar verschie
 denen Aspekten widmen:• Die Gesetzmäßigkeiten der Entwicklung des Lernens•
  Grenzen setzen\, bedeutet auf Widerstand zu stoßen• Grenzerfahrungen und 
 Grenzüberschreitungen• Perspektivwechsel – das System betrachten\n https:/
 /www.papierschiff.de/seminare/detail/3806-liebevoll-grenzen-setzen-kindern
 -halt-und-orientierung-schenken
DTSTART:20270119T093000Z
DTEND:20270119T163000Z
LOCATION:Institut für pädagogische Weiterbildung (Ohmstraße 6\, 97076 Würzb
 urg)
SUMMARY:Liebevoll Grenzen setzen - Kindern Halt und Orientierung schenken 
URL:https://www.papierschiff.de/seminare/detail/3806-liebevoll-grenzen-setz
 en-kindern-halt-und-orientierung-schenken
END:VEVENT
END:VCALENDAR
