BEGIN:VCALENDAR
VERSION:2.0
PRODID:-//https://www.papierschiff.de///NONSGML kigkonsult.se iCalcreator 2.10.15//
METHOD:PUBLISH
BEGIN:VEVENT
UID:20260420T143001CEST-64631KLCWX@https://www.papierschiff.de/
DTSTAMP:20260420T123001Z
DESCRIPTION:\nEine Belohnung bei gutem Verhalten\, aber auch eine Bestrafun
 g bei schlechtem Verhalten ist immer noch eine verbreitete Erziehungsmetho
 de. Auch 'wenn\, dann' - Sätze spielen im Kitaalltag weiterhin keine unerh
 ebliche Rolle.In diesem Seminar werden wir uns mit der Haltung und Wirkung
  von Lob und Strafe auseinandersetzen und uns reflektiert die Frage stelle
 n\, ob es Belohnen und Bestrafen überhaupt braucht.Mit den Ansätzen von Je
 sper Juul\, basierend auf seinen 4 Werten\, erhalten Sie neue Impulse und 
 entdecken praxisnahe Möglichkeiten\, wie Wünsche und Kritik bedingungslos 
 ausgesprochen werden können\, ohne zu manipulieren.\nDieses Seminar kann a
 ls Aufbauseminar zu '4 Werte\, die Kinder ein Leben lang tragen'\, oder al
 s Einzelseminar gebucht werden.\n https://www.papierschiff.de/seminare/det
 ail/3804-belohnen-und-bestrafen-wenn-du-brav-bist-dann-jesper-juul
DTSTART:20270116T093000Z
DTEND:20270116T163000Z
LOCATION:Institut für pädagogische Weiterbildung (Ohmstraße 6\, 97076 Würzb
 urg)
SUMMARY:Belohnen und Bestrafen - ' wenn Du brav bist\, dann ... (Jesper Juu
 l)
URL:https://www.papierschiff.de/seminare/detail/3804-belohnen-und-bestrafen
 -wenn-du-brav-bist-dann-jesper-juul
END:VEVENT
END:VCALENDAR
