BEGIN:VCALENDAR
VERSION:2.0
PRODID:-//https://www.papierschiff.de///NONSGML kigkonsult.se iCalcreator 2.10.15//
METHOD:PUBLISH
BEGIN:VEVENT
UID:20260422T102125CEST-81973fXPcx@https://www.papierschiff.de/
DTSTAMP:20260422T082125Z
DESCRIPTION:\nDer Krippenalltag ist bunt\, turbulent und am Kind orientiert
 . Eine Pädagogik für alle Kinder\, mit den unterschiedlichsten Bedürfnisse
 n und Zugangsmöglichkeiten\, steht für uns im Fokus. Die Beziehung zwische
 n Kind\, Pädagoge und Eltern\, bildet hier die Basis.Wie wir den Alltag mi
 t den Kindern gemeinsam leben und gestalten\, welche Materialien\, Maßnahm
 en und Strukturen sich bewährt haben möchten wir Ihnen vorstellen. So viel
 fältig die Facetten der pädagogischen Arbeit sind\, so bunt und abwechslun
 gsreich sind die Inhalte des Seminartages:• Beziehung als wichtigstes Elem
 ent der Krippenpädagogik• Einblick in den Alltag der beiden Krippengruppen
 • Leben von Inklusion in der Krippe• Partizipation• Naturpädagogik in der 
 Krippe (Wiesenwochen)• Einfluss der Montessori-Pädagogik• Eingewöhnung• Üb
 ergang in die Regelgruppe• Organisatorische Strukturen und Hilfsmittel (wi
 e z.B. Kita-App\, Verpflegungspauschale\, Eltern-ABC\, Ich-Bücher\, …)• Ha
 usführung• Viel Zeit für den gemeinsamen Austausch\, Fragen und Diskussion
 \nTeilnehmende: 10-18\nKosten: 108\,00\n https://www.papierschiff.de/semin
 are/detail/3768-kleinkindpaedagogik-alltag-in-der-kinderkrippe---beziehung
 svolle-partizipative-begleitung-kitzingen
DTSTART:20260704T090000Z
DTEND:20260704T160000Z
LOCATION:Kindergarten St. Vinzenz (Sickershäuser Str. 1\, 97318 Kitzingen\,
  Deutschland)
SUMMARY:Kleinkindpädagogik: Alltag in der Kinderkrippe – beziehungsvolle\, 
 partizipative Begleitung (Kitzingen)
URL:https://www.papierschiff.de/seminare/detail/3768-kleinkindpaedagogik-al
 ltag-in-der-kinderkrippe---beziehungsvolle-partizipative-begleitung-kitzin
 gen
END:VEVENT
END:VCALENDAR
