BEGIN:VCALENDAR
VERSION:2.0
PRODID:-//https://www.papierschiff.de///NONSGML kigkonsult.se iCalcreator 2.10.15//
METHOD:PUBLISH
BEGIN:VEVENT
UID:20260420T105811CEST-1856leTS7t@https://www.papierschiff.de/
DTSTAMP:20260420T085811Z
DESCRIPTION:\nDurch die riesige Anzahl an Synapsen können sich Kleinkinder 
 im rasanten Tempo alles aneignen\, was sie wollen. Nicht wissenschaftlich\
 , sondern pädagogisch wollen wir uns dem Thema nähern.\nLernen Kinder durc
 h musikalische Früherziehung\, räumliches Vorstellungsvermögen und logisch
 es Denken? Kann man neuronale Fenster optimal nutzen und wenn ja\, wie? Gi
 bt es eine musikalische Ader im Gehirn?\nKindergehirne sind enorm anpassun
 gsfähig und formbar. Welche Rolle das in der Erziehung spielt und wie wich
 tig es für den Umgang mit starken Gefühlen ist\, ist Inhalt dieses Seminar
 s. Ob Trotzalter oder Eingewöhnung in der Kita - immer wenn Gefühle im Spi
 el sind\, ist unser Gehirn gefragt und gefordert und wir als Erziehende eb
 enso.\nUnd egal ob Genie oder ganz einfach ein wunderbares Menschenkind: U
 m eine gute Entwicklung zu nehmen\, Werte zu erlernen\, braucht unser Gehi
 rn liebevolle und tröstende Erziehende\, die sie auf ihrer oft „stürmische
 n“ Entwicklungsreise begleiten. Wie mit einfühlsamer Erziehung die Entwick
 lung des Gehirns positiv unterstützt wird\, wollen wir uns mit praktischen
  Tipps und Beispielen anschauen.\nTeilnehmende: 9-18\nKosten: 108\,00\n ht
 tps://www.papierschiff.de/seminare/detail/3704-gehirnentwicklung-und-die-u
 n-moeglichkeit-es-zu-erziehen
DTSTART:20260312T093000Z
DTEND:20260312T163000Z
LOCATION:Institut für pädagogische Weiterbildung (Ohmstraße 6\, 97076 Würzb
 urg)
SUMMARY:Gehirnentwicklung und die (Un)Möglichkeit\, es zu erziehen!
URL:https://www.papierschiff.de/seminare/detail/3704-gehirnentwicklung-und-
 die-un-moeglichkeit-es-zu-erziehen
END:VEVENT
END:VCALENDAR
