BEGIN:VCALENDAR
VERSION:2.0
PRODID:-//https://www.papierschiff.de///NONSGML kigkonsult.se iCalcreator 2.10.15//
METHOD:PUBLISH
BEGIN:VEVENT
UID:20260420T142806CEST-7780fzXD4u@https://www.papierschiff.de/
DTSTAMP:20260420T122806Z
DESCRIPTION:\nSeminar: 24/58\nDieses Seminar richtet sich an Alle\, die ber
 eits im offenen Konzept arbeiten oder im Prozess dazu sind. Öffnung beginn
 t im Kopf\, beim Nachdenken über gewohnte Arbeitsweisen und ihre Wirkungen
 \, über Veränderungsbedarf und Alternativen.  Spätestens wenn man das Gefü
 hl hat\, vor zu vielen Herausforderungen zu stehen oder zu viele Baustelle
 n zu bearbeiten\, lohnt es sich\, innezuhalten. Innezuhalten\, um wieder o
 ffen für neue Blickwinkel und Perspektiven zu werden und die eigene Arbeit
  und die Arbeit des Teams neu zu bereichern. Diese Chance bietet Ihnen die
 ses Seminar.  Ein Tag aus der Praxis\, in der Praxis\, für die Praxis. Inh
 alte sind Ihre Themen\, konkrete Fragen und Ihre tägliche Arbeit im offene
 n Konzept. Dies bietet Ihnen zudem die Gelegenheit viele neue Impulse\, Ei
 ndrücke und Anregungen mitzunehmen.\nTeilnehmende: 9-18\nKosten: 108\,00\n
  https://www.papierschiff.de/seminare/detail/3584-offene-arbeit-neue-impul
 se-fuer-die-praxis
DTSTART:20250315T093000Z
DTEND:20250315T163000Z
LOCATION:Montessori Kinderhaus St. Sebastian (Nähe Würzburg) (Alleestr. 4\,
  97509 Kolitzheim)
SUMMARY:Offene Arbeit - Neue Impulse für die Praxis
URL:https://www.papierschiff.de/seminare/detail/3584-offene-arbeit-neue-imp
 ulse-fuer-die-praxis
END:VEVENT
END:VCALENDAR
