BEGIN:VCALENDAR
VERSION:2.0
PRODID:-//https://www.papierschiff.de///NONSGML kigkonsult.se iCalcreator 2.10.15//
METHOD:PUBLISH
BEGIN:VEVENT
UID:20260419T201433CEST-5167XnT4TV@https://www.papierschiff.de/
DTSTAMP:20260419T181433Z
DESCRIPTION:\nSeminar: 24/77 NEU!\n„Musik ist der Schlüssel in die Herzen d
 er Kinder“.  Lieder können sowohl inhaltlich als auch durch die Verbundenh
 eit mit Bewegung zu innerer Stärke verhelfen. Singen und Tanzen verleiht F
 lügel\, ein Gefühl von Freiheit\, Power und auch Entspannung. Für Sicherhe
 it\, Kraft und Stärke singen wir uns einmal durch das ganze Jahr und die v
 erschiedenen Emotionen\, die Kinder im Laufe ihrer Kindheit begleiten. Dur
 ch Rhythmik und rhythmische Klatschverse können wir Kinder in ihrer sozial
 en Kompetenz\, Selbstregulation\, Stressbewältigung sowie Selbst- und Frem
 dwahrnehmung unterstützen. Auch Ihre individuelle Kreativität wird aus ein
 em eventuellen Schlummerschlaf geweckt\, indem wir das eine oder andere Li
 edchen komponieren.\nTeilnehmende: 9-18\nKosten: 108.00 €\nNeu!\n https://
 www.papierschiff.de/seminare/detail/3562-heute-wird-musik-gemacht-emotiona
 le-stabilitaet-herbeisingen
DTSTART:20250410T093000Z
DTEND:20250410T163000Z
LOCATION:Institut für pädagogische Weiterbildung (Ohmstraße 6\, 97076 Würzb
 urg)
SUMMARY:Heute wird Musik gemacht - Emotionale Stabilität herbeisingen
URL:https://www.papierschiff.de/seminare/detail/3562-heute-wird-musik-gemac
 ht-emotionale-stabilitaet-herbeisingen
END:VEVENT
END:VCALENDAR
