BEGIN:VCALENDAR
VERSION:2.0
PRODID:-//https://www.papierschiff.de///NONSGML kigkonsult.se iCalcreator 2.10.15//
METHOD:PUBLISH
BEGIN:VEVENT
UID:20260419T143424CEST-7722MSov8g@https://www.papierschiff.de/
DTSTAMP:20260419T123424Z
DESCRIPTION:\nSeminar: 24/86 NEU!\nDie Kosmische Erziehung dient zum Verstä
 ndnis des gesamten Lebenswerkes von Maria Montessori. Die Einsicht in die 
 Wechselbeziehungen\, alles hängt mit allem zusammen ist für Montessori das
  fundamentale Bildungsprinzip\, welches die Kinder auf ein verantwortungsv
 olles Handeln in der Welt vorbereitet.  Sie entwickelte zahlreiche Ideen\,
  Materialien und Handlungskonzepte um Kindern diesen Gesamtzusammenhang vo
 n Natur\, Umwelt\, Kultur und Gesellschaft zu vermitteln. Dadurch können K
 inder mit natürlicher Neugierde und Freude am Forschen das nahe Umfeld und
  das vermeintlich ferne Universum erkunden.  Sie erhalten an diesem Samsta
 g einen Einblick in diese kosmische Materialvielfalt\, mit Praxisbeispiele
 n und Praxisbezug\, Anregungen und Anwendungsmöglichkeiten für Ihren Kitaa
 lltag. Die verschiedenen Materialien geben Impulse\, wie Sie den naturwiss
 enschaftlich-technischen Bereich (BEP) pädagogisch wertvoll abdecken und g
 estalten können.\nTeilnehmende: 9-20\nKosten: 108\,00€\nNeu!\n https://www
 .papierschiff.de/seminare/detail/3552-montessoripaedagogik-7-kosmische-erz
 iehung-alles-haengt-mit-allem-zusammen
DTSTART:20250510T093000Z
DTEND:20250510T163000Z
LOCATION:Institut für pädagogische Weiterbildung (Ohmstraße 6\, 97076 Würzb
 urg)
SUMMARY:Montessoripädagogik 7: Kosmische Erziehung - alles hängt mit allem 
 zusammen
URL:https://www.papierschiff.de/seminare/detail/3552-montessoripaedagogik-7
 -kosmische-erziehung-alles-haengt-mit-allem-zusammen
END:VEVENT
END:VCALENDAR
